BEGIN:VCALENDAR
VERSION:2.0
PRODID:-//Kreativ Angler e.V. - ECPv6.15.20//NONSGML v1.0//EN
CALSCALE:GREGORIAN
METHOD:PUBLISH
X-ORIGINAL-URL:https://kreativangler.de
X-WR-CALDESC:Veranstaltungen für Kreativ Angler e.V.
REFRESH-INTERVAL;VALUE=DURATION:PT1H
X-Robots-Tag:noindex
X-PUBLISHED-TTL:PT1H
BEGIN:VTIMEZONE
TZID:Europe/Berlin
BEGIN:DAYLIGHT
TZOFFSETFROM:+0100
TZOFFSETTO:+0200
TZNAME:CEST
DTSTART:20210328T010000
END:DAYLIGHT
BEGIN:STANDARD
TZOFFSETFROM:+0200
TZOFFSETTO:+0100
TZNAME:CET
DTSTART:20211031T010000
END:STANDARD
BEGIN:DAYLIGHT
TZOFFSETFROM:+0100
TZOFFSETTO:+0200
TZNAME:CEST
DTSTART:20220327T010000
END:DAYLIGHT
BEGIN:STANDARD
TZOFFSETFROM:+0200
TZOFFSETTO:+0100
TZNAME:CET
DTSTART:20221030T010000
END:STANDARD
BEGIN:DAYLIGHT
TZOFFSETFROM:+0100
TZOFFSETTO:+0200
TZNAME:CEST
DTSTART:20230326T010000
END:DAYLIGHT
BEGIN:STANDARD
TZOFFSETFROM:+0200
TZOFFSETTO:+0100
TZNAME:CET
DTSTART:20231029T010000
END:STANDARD
BEGIN:DAYLIGHT
TZOFFSETFROM:+0100
TZOFFSETTO:+0200
TZNAME:CEST
DTSTART:20240331T010000
END:DAYLIGHT
BEGIN:STANDARD
TZOFFSETFROM:+0200
TZOFFSETTO:+0100
TZNAME:CET
DTSTART:20241027T010000
END:STANDARD
BEGIN:DAYLIGHT
TZOFFSETFROM:+0100
TZOFFSETTO:+0200
TZNAME:CEST
DTSTART:20250330T010000
END:DAYLIGHT
BEGIN:STANDARD
TZOFFSETFROM:+0200
TZOFFSETTO:+0100
TZNAME:CET
DTSTART:20251026T010000
END:STANDARD
BEGIN:DAYLIGHT
TZOFFSETFROM:+0100
TZOFFSETTO:+0200
TZNAME:CEST
DTSTART:20260329T010000
END:DAYLIGHT
BEGIN:STANDARD
TZOFFSETFROM:+0200
TZOFFSETTO:+0100
TZNAME:CET
DTSTART:20261025T010000
END:STANDARD
END:VTIMEZONE
BEGIN:VEVENT
DTSTART;TZID=Europe/Berlin:20250510T080000
DTEND;TZID=Europe/Berlin:20250510T170000
DTSTAMP:20260421T151704
CREATED:20250508T201333Z
LAST-MODIFIED:20250508T201333Z
UID:1686-1746864000-1746896400@kreativangler.de
SUMMARY:Arbeitseinsatz und Vereinsleben
DESCRIPTION:Am 10.05.2025 findet ein Arbeitseinsatz von etwa 2 Stunden statt\, mit im Anschluss Förderung der Gemeinschaft bei einem lockeren Grillen und Spielen für die Kinder. \n  \nAlle weiteren Informationen wurden den Mitgliedern per Mail mitgeteilt und wir freuen uns auf euch.
URL:https://kreativangler.de/event/arbeitseinsatz-und-vereinsleben/
LOCATION:Gilsbach
CATEGORIES:Arbeitseinsätze,Veranstaltung
ATTACH;FMTTYPE=image/jpeg:https://kreativangler.de/wp-content/uploads/2024/12/PXL_20241207_145316106-scaled.jpg
END:VEVENT
BEGIN:VEVENT
DTSTART;TZID=Europe/Berlin:20250201T140000
DTEND;TZID=Europe/Berlin:20250201T180000
DTSTAMP:20260421T151704
CREATED:20250109T082521Z
LAST-MODIFIED:20250109T082521Z
UID:1683-1738418400-1738432800@kreativangler.de
SUMMARY:Jahreshauptversammlung 2025
DESCRIPTION:Liebe Mitgliederinnen\, liebe Mitglieder\, \nhiermit möchten wir dich herzlichst zu unserer Jahreshauptversammlung am 01.02.2025 um 14:00\nUhr wieder in das Vereinsheim des FV Naunheim einladen. (Lahn Insel Naunheim). \nEs wird wieder Getränke und ein Snack zum kleinen Preis geben\, wir laden herzlich zum weiteren\nVerweilen nach der Versammlung bei einer Bockwurst im Brötchen & Salat ein. \n 
URL:https://kreativangler.de/event/jahreshauptversammlung-2025/
CATEGORIES:Versammlungen
ATTACH;FMTTYPE=image/png:https://kreativangler.de/wp-content/uploads/2023/01/Kreativ-Angler-e.V.-1024-×-1024-px.png
END:VEVENT
BEGIN:VEVENT
DTSTART;TZID=Europe/Berlin:20241207T150000
DTEND;TZID=Europe/Berlin:20241207T190000
DTSTAMP:20260421T151704
CREATED:20241125T022515Z
LAST-MODIFIED:20241125T022524Z
UID:1585-1733583600-1733598000@kreativangler.de
SUMMARY:Weihnachtsfeier 2024
DESCRIPTION:Wir freuen uns auf die gemeinsame Weihnachtsfeier mit euch. \n  \nAlle Informationen sind per Mail bekannt gemacht worden\, für Rückfragen wendet euch an den Vorstand. \nBitte die Rückmeldung nicht vergessen.
URL:https://kreativangler.de/event/weihnachtsfeier/
LOCATION:35630 Ehringshausen\, Ehringshausen\, 35630\, Deutschland
CATEGORIES:Veranstaltung
ATTACH;FMTTYPE=image/png:https://kreativangler.de/wp-content/uploads/2023/01/Kreativ-Angler-e.V.-1024-×-1024-px.png
END:VEVENT
BEGIN:VEVENT
DTSTART;TZID=Europe/Berlin:20241012T090000
DTEND;TZID=Europe/Berlin:20241012T160000
DTSTAMP:20260421T151704
CREATED:20240923T175054Z
LAST-MODIFIED:20240923T175054Z
UID:1577-1728723600-1728748800@kreativangler.de
SUMMARY:Abangeln 2024
DESCRIPTION:Das Jahr neigt sich dem Ende zu und wir möchten auf Grund des Interesses ein Abangeln in Aßlar am Teich 4 gemeinsam mit euch Veranstalten. Es wird Bratwurst im Brötchen geben sowie warmen Kaffee und Tee zum kleinen Preis vor Ort zum Verkauf angeboten. \nDer offizielle Teil geht am 12.10.2024 von 09:00 Uhr bis 16:00 Uhr. Die erste Stunde des Abangelns also von 09:00 bis 10:00 Uhr gehört wie immer den Kindern\, da einbezogen sind auch unsere Gast Kinder\, falls jemand welche mitbringt. Ab 16 Uhr lädt der Vorstand zum weiteren Verweilen beim kleinen Feuerchen ein. \nWer Freunde zum Fischen mitbringen möchte\, bitte die Info Mail beachten.
URL:https://kreativangler.de/event/abfischen-2024/
LOCATION:Teich 4 ASV Aßlar\, Aßlar\, Deutschland
CATEGORIES:Angeln
ATTACH;FMTTYPE=image/jpeg:https://kreativangler.de/wp-content/uploads/2024/09/20230826_120428-scaled.jpg
END:VEVENT
BEGIN:VEVENT
DTSTART;TZID=Europe/Berlin:20240922T080000
DTEND;TZID=Europe/Berlin:20240922T170000
DTSTAMP:20260421T151704
CREATED:20240715T104650Z
LAST-MODIFIED:20240715T104650Z
UID:1567-1726992000-1727024400@kreativangler.de
SUMMARY:Abfischen Teich - Oberbiel
DESCRIPTION:Wir möchten voraussichtlich am 22.09.2024 den Teich Abfischen. Es hängt vom Wasserstand ab\, weitere Informationen folgen kurzfristig in unserer WhatsApp Gruppe.
URL:https://kreativangler.de/event/abfischen-teich-oberbiel/
LOCATION:Oberbiel
CATEGORIES:Arbeitseinsätze
ATTACH;FMTTYPE=image/jpeg:https://kreativangler.de/wp-content/uploads/2023/11/20231111_123258.jpg
END:VEVENT
BEGIN:VEVENT
DTSTART;TZID=Europe/Berlin:20240907T090000
DTEND;TZID=Europe/Berlin:20240908T120000
DTSTAMP:20260421T151704
CREATED:20240715T104243Z
LAST-MODIFIED:20240715T104846Z
UID:1564-1725699600-1725796800@kreativangler.de
SUMMARY:Arbeitseinsatz V und Abfischen - Oberbiel
DESCRIPTION:Am 07.09.2024 von 09:00 – 13:00 Uhr findet der fünfte Arbeitseinsatz an unserem Teich in Oberbiel statt. \nZu erledigen wird sein\, evtl. das Rohr für den Zulauf freilegen und Grünschnitt/Rasen. \nBitte an Arbeitshandschuhe denken und mitbringen. \n  \nIm Anschluss wird abgeangelt\, es sollen möglichst viele Fische entnommen werden\, außer es besteht eine Schonzeit oder Entnahmeverbot. Die gefangenen Fische\, sollen sinnvoll verwertet werden. Desto weniger müssen wir Abfischen\, wenn der Teich abgelassen wird. Wer übernachten möchte\, bitte vorher beim Vorstand anmelden. Für Verpflegung ist selbst zu sorgen beim Abfischen.
URL:https://kreativangler.de/event/arbeitseinsatz-v-und-abfischen-oberbiel/
LOCATION:Oberbiel
CATEGORIES:Angeln,Arbeitseinsätze
ATTACH;FMTTYPE=image/jpeg:https://kreativangler.de/wp-content/uploads/2023/01/20220709_092446.jpg
END:VEVENT
BEGIN:VEVENT
DTSTART;TZID=Europe/Berlin:20240810T080000
DTEND;TZID=Europe/Berlin:20240810T120000
DTSTAMP:20260421T151704
CREATED:20240715T104222Z
LAST-MODIFIED:20240715T104745Z
UID:1560-1723276800-1723291200@kreativangler.de
SUMMARY:Arbeitseinsatz IV
DESCRIPTION:Am 10.8.2024 von 08:00 – 12:00 Uhr findet der vierte Arbeitseinsatz an unserem Teich in Oberbiel statt. \nZu erledigen wird sein\, die Hütte entfernen und Altholz verladen und wegfahren. \nBitte an Arbeitshandschuhe denken und mitbringen.
URL:https://kreativangler.de/event/arbeitseinsatz-iv/
LOCATION:Oberbiel
CATEGORIES:Arbeitseinsätze
ATTACH;FMTTYPE=image/jpeg:https://kreativangler.de/wp-content/uploads/2024/07/PXL_20240427_082203586.MP_-scaled.jpg
END:VEVENT
BEGIN:VEVENT
DTSTART;TZID=Europe/Berlin:20240804T090000
DTEND;TZID=Europe/Berlin:20240804T160000
DTSTAMP:20260421T151704
CREATED:20240715T103149Z
LAST-MODIFIED:20240715T103149Z
UID:1556-1722762000-1722787200@kreativangler.de
SUMMARY:Jugendangeln 2024
DESCRIPTION:Unsere Jugend wird am 04.08.2024 von 09:00 bis 16:00 Uhr an dem Teich 4 in Aßlar fischen. \nDazu bitte Getränke und Essen mitbringen für den Tag. Wichtig dem Wetter entsprechende Kleidung anziehen. Auch an Sonnenschutz denken. \nEs darf auf jede Fischart gefischt werden\, welche nicht einer Schonzeit oder Entnahmeverbot unterliegen. \nAngelköder bringen die Jugendleiter mit. \nhttps://maps.app.goo.gl/hRDhDZztrzbRWCGN6  <- Google Maps \n 
URL:https://kreativangler.de/event/jugendangeln/
LOCATION:Teich 4 ASV Aßlar\, Aßlar\, Deutschland
CATEGORIES:Angeln
ATTACH;FMTTYPE=image/jpeg:https://kreativangler.de/wp-content/uploads/2024/04/PXL_20240420_131421431-scaled.jpg
END:VEVENT
BEGIN:VEVENT
DTSTART;TZID=Europe/Berlin:20240427T093000
DTEND;TZID=Europe/Berlin:20240427T133000
DTSTAMP:20260421T151704
CREATED:20230921T055417Z
LAST-MODIFIED:20240410T174256Z
UID:1179-1714210200-1714224600@kreativangler.de
SUMMARY:Arbeitseinsatz III 2024 - Oberbiel
DESCRIPTION:Der dritte Arbeitseinsatz findet in Oberbiel statt.
URL:https://kreativangler.de/event/arbeitseinsatz-iii-2024-oberbiel/
LOCATION:Oberbiel
CATEGORIES:Arbeitseinsätze
ATTACH;FMTTYPE=image/jpeg:https://kreativangler.de/wp-content/uploads/2023/07/20230603_160411.jpg
END:VEVENT
BEGIN:VEVENT
DTSTART;TZID=Europe/Berlin:20240420T080000
DTEND;TZID=Europe/Berlin:20240420T160000
DTSTAMP:20260421T151704
CREATED:20230921T055214Z
LAST-MODIFIED:20240425T093919Z
UID:1177-1713600000-1713628800@kreativangler.de
SUMMARY:Anangeln 2024
DESCRIPTION:Das Anangeln in diesem Jahr findet in Aßlar statt. \n  \n 
URL:https://kreativangler.de/event/anangeln-2024/
CATEGORIES:Angeln
ATTACH;FMTTYPE=image/jpeg:https://kreativangler.de/wp-content/uploads/2023/07/20230603_181107.jpg
END:VEVENT
BEGIN:VEVENT
DTSTART;TZID=Europe/Berlin:20240409T130000
DTEND;TZID=Europe/Berlin:20240409T180000
DTSTAMP:20260421T151704
CREATED:20230920T162247Z
LAST-MODIFIED:20230920T162247Z
UID:1165-1712667600-1712685600@kreativangler.de
SUMMARY:Ruten und Rollen
DESCRIPTION:Sicherer Umgang mit der Rute und der Rolle\, dieses Angebot richtet sich an alle unsere Mitglieder. Nähere Informationen folgen.
URL:https://kreativangler.de/event/ruten-und-rollen/
CATEGORIES:Lernen
ATTACH;FMTTYPE=image/jpeg:https://kreativangler.de/wp-content/uploads/2022/07/20220709_070542.jpg
END:VEVENT
BEGIN:VEVENT
DTSTART;TZID=Europe/Berlin:20240316T100000
DTEND;TZID=Europe/Berlin:20240316T140000
DTSTAMP:20260421T151704
CREATED:20230921T054939Z
LAST-MODIFIED:20230921T054939Z
UID:1174-1710583200-1710597600@kreativangler.de
SUMMARY:Arbeitseinsatz II 2024 - Oberbiel
DESCRIPTION:Der zweite Arbeitseinsatz in 2024 findet in Oberbiel statt.
URL:https://kreativangler.de/event/arbeitseinsatz-ii-2024-oberbiel/
LOCATION:Oberbiel
CATEGORIES:Arbeitseinsätze
ATTACH;FMTTYPE=image/jpeg:https://kreativangler.de/wp-content/uploads/2023/07/20230603_160411.jpg
END:VEVENT
BEGIN:VEVENT
DTSTART;TZID=Europe/Berlin:20240309T100000
DTEND;TZID=Europe/Berlin:20240309T140000
DTSTAMP:20260421T151704
CREATED:20230920T162456Z
LAST-MODIFIED:20240219T073914Z
UID:1167-1709978400-1709992800@kreativangler.de
SUMMARY:Arbeitseinsatz I 2024 - Oberbiel
DESCRIPTION:Der erste Arbeitseinsatz in 2024 findet in Oberbiel statt.
URL:https://kreativangler.de/event/arbeitseinsatz-i-2024-gilsbach/
LOCATION:Gilsbach
CATEGORIES:Arbeitseinsätze
ATTACH;FMTTYPE=image/jpeg:https://kreativangler.de/wp-content/uploads/2023/07/20230603_160411.jpg
END:VEVENT
BEGIN:VEVENT
DTSTART;TZID=Europe/Berlin:20240107T140000
DTEND;TZID=Europe/Berlin:20240107T170000
DTSTAMP:20260421T151704
CREATED:20230920T162010Z
LAST-MODIFIED:20230920T162010Z
UID:1163-1704636000-1704646800@kreativangler.de
SUMMARY:Jahreshauptversammlung 2024
DESCRIPTION:Die Tagesordnung und Einladung wird Satzungsgemäß bekannt gemacht.
URL:https://kreativangler.de/event/jahreshauptversammlung-2024/
CATEGORIES:Versammlungen
END:VEVENT
BEGIN:VEVENT
DTSTART;TZID=Europe/Berlin:20231021T090000
DTEND;TZID=Europe/Berlin:20231021T130000
DTSTAMP:20260421T151704
CREATED:20230130T083252Z
LAST-MODIFIED:20231016T103410Z
UID:857-1697878800-1697893200@kreativangler.de
SUMMARY:Arbeitseinsatz II 2023
DESCRIPTION:Am 21.10.2023 von 09:00 bis 14:00 Uhr findet unser Arbeitseinsatz in Gilsbach statt. Treffpunkt ist direkt in Gilsbach am Grundstück. \nhttps://maps.app.goo.gl/uc4tRcoQttFBoqwx6 \nGeplant ist nach dem Einsatz\, gemeinsames Essen und ein Grenzgang von ca. 45 Minuten. Im Anschluss geselliges Beisammensein. Wer Interesse und Lust hat ist gerne Eingeladen zu übernachten. Gebt bitte Rückmeldung ob ihr kommt oder nicht\, sodass wir den Einkauf für das gemeinsame Essen planen können. \nAnsonsten freuen wir uns auf euch. Für Fragen wendet euch an den Vorstand.
URL:https://kreativangler.de/event/arbeitseinsatz-iii/
LOCATION:Gilsbach
CATEGORIES:Arbeitseinsätze
END:VEVENT
BEGIN:VEVENT
DTSTART;TZID=Europe/Berlin:20230825T163000
DTEND;TZID=Europe/Berlin:20230827T130000
DTSTAMP:20260421T151704
CREATED:20230618T100138Z
LAST-MODIFIED:20230702T070821Z
UID:1083-1692981000-1693141200@kreativangler.de
SUMMARY:Austauschangeln mit dem ASV Aßlar
DESCRIPTION:Nach dem gemeinsamen Jugendcamp 2023\, hat uns der ASV Aßlar herzlich eingeladen mit unserer Jugend am Austauschangeln teilzunehmen. Dieser Einladung folgen wir gerne und freuen uns auf ein tolles gemeinsames Wochenende. \nWeitere Informationen per Email.
URL:https://kreativangler.de/event/austauschangeln-mit-dem-asv-asslar/
CATEGORIES:Angeln
ATTACH;FMTTYPE=image/jpeg:https://kreativangler.de/wp-content/uploads/2022/11/DSC06570.jpg
END:VEVENT
BEGIN:VEVENT
DTSTART;TZID=Europe/Berlin:20230821T120000
DTEND;TZID=Europe/Berlin:20230822T120000
DTSTAMP:20260421T151704
CREATED:20230607T123417Z
LAST-MODIFIED:20230702T070855Z
UID:1077-1692619200-1692705600@kreativangler.de
SUMMARY:Jugendfreizeit mit der Caritas Wetzlar
DESCRIPTION:Schöne zwei Tage sollen es werden\, Naturerkunden\, Castingspiele uvm. erwarten uns gemeinsam mit der Caritas.
URL:https://kreativangler.de/event/jugendfreizeit-mit-der-caritas-wetzlar/
LOCATION:Gilsbach
CATEGORIES:Angeln
ATTACH;FMTTYPE=image/jpeg:https://kreativangler.de/wp-content/uploads/2023/05/IMG_0651.jpg
END:VEVENT
BEGIN:VEVENT
DTSTART;TZID=Europe/Berlin:20230708T140000
DTEND;TZID=Europe/Berlin:20230708T180000
DTSTAMP:20260421T151704
CREATED:20230524T120325Z
LAST-MODIFIED:20230524T120325Z
UID:959-1688824800-1688839200@kreativangler.de
SUMMARY:Außerordentliche Mitgliederversammlung
DESCRIPTION:Sehr geehrte Mitglieder\, \nam 08.07.2023 14:00 Uhr findet eine außerordentliche Mitgliederversammlung (§14 abs. 9 der Satzung) statt\, die Einladung mit Tagesordnung erhaltet ihr fristgerecht auf den üblichen Wege. \nEuer Vorstand
URL:https://kreativangler.de/event/ausserordentliche-mitgliederversammlung/
CATEGORIES:Versammlungen
ATTACH;FMTTYPE=image/png:https://kreativangler.de/wp-content/uploads/2022/07/cropped-cropped-Kreativ-Angler-e.V.-3.png
END:VEVENT
BEGIN:VEVENT
DTSTART;TZID=Europe/Berlin:20230603T100000
DTEND;TZID=Europe/Berlin:20230603T140000
DTSTAMP:20260421T151704
CREATED:20230130T082849Z
LAST-MODIFIED:20230430T072414Z
UID:850-1685786400-1685800800@kreativangler.de
SUMMARY:Arbeitseinsatz I 2023
DESCRIPTION:Treffpunkt wird noch bekannt gegeben.
URL:https://kreativangler.de/event/arbeitseinsatz/
LOCATION:Gilsbach
CATEGORIES:Arbeitseinsätze
END:VEVENT
BEGIN:VEVENT
DTSTART;TZID=Europe/Berlin:20230518T140000
DTEND;TZID=Europe/Berlin:20230521T120000
DTSTAMP:20260421T151704
CREATED:20221130T063527Z
LAST-MODIFIED:20230130T064827Z
UID:554-1684418400-1684670400@kreativangler.de
SUMMARY:Jugend Angelcamp 2023
DESCRIPTION:An alle interessierten Vereine für das Angelcamp 2023 in Heuchelheim \nEinladung zum Jugend Angelcamp 2023 in Heuchelheim \nSehr geehrte Jugendwartinnen\, sehr geehrte Jugendwarte\, \nauch in 2023 möchte der Verein Sportangler Gießen und Umgebung e.V.  auf seinem Gelände ein Jugend Angelcamp veranstalten. Dazu haben sich der Verein Sportangler Gießen und Umgebung e.V. und Kreativ Angler e.V. zusammengetan\, um dieses anzubieten. Wir freuen uns auch dieses Jahr wieder auf viele teilnehmende Vereine. Dazu laden beide Vereine recht herzlich ein. Eine Mitgliedschaft im Verband\, oder ähnlichen Einrichtungen ist nicht nötig! \nDie Eckdaten des Jugend Angelcamp im Überblick \nWann:             18.05.2023 14:00 Uhr bis 21.05.2023 12:00 Uhr \nWo:                 VSA Angelsee – 35452 Heuchelheim \nWer:                Jugendgruppen mit Jugendlichen im Alter von 8 -17 Jahren & Betreuer \nWas:                Angeln\, Casting Turnier\, Ausbildung\, Spaß \nFragen?:          Heiko Riesler\, heiko.riesler@kreativangler.de \nBeitrag p.P.:    35\,00 Euro \nBeitrag p.P.     mit GdB ab 50% (Schwerbehindertenausweis erforderlich) 25 Euro \nDie Anmeldefrist endet am 01.05.2023. Bitte die Anmeldung per E-Mail an heiko.riesler@kreativangler.de  zurücksenden. \nIm Anhang befinden sich Anmeldung\, das Programm und weitere Informationen. Beide Vereinsvorstände freuen sich auf euer Kommen. Mitglieder des Verein Sportangler Gießen und Umgebung e.V. und Kreativ Angler e.V. nehmen kostenlos an dieser Veranstaltung teil. Du bist Angler und hast noch keinen Verein? Tritt einem Fischereiverein aus deiner Region bei\, oder trete einem unserer Vereine bei. \n  \nMit freundlichen Grüßen \n  \nDer Vorstand
URL:https://kreativangler.de/event/angel-jugendcamp-2023/
LOCATION:Heuchelheimer See VSA Gießen\, Heuchelheim\, Hessen\, 35452\, Deutschland
CATEGORIES:Angeln,Veranstaltung
ATTACH;FMTTYPE=image/jpeg:https://kreativangler.de/wp-content/uploads/2022/11/DSC06570.jpg
END:VEVENT
BEGIN:VEVENT
DTSTART;TZID=Europe/Berlin:20230418T110000
DTEND;TZID=Europe/Berlin:20230418T170000
DTSTAMP:20260421T151704
CREATED:20230310T084233Z
LAST-MODIFIED:20230310T084233Z
UID:924-1681815600-1681837200@kreativangler.de
SUMMARY:Ferienspiele mit der Caritas Wetzlar
DESCRIPTION:Wie auch im letzten Jahr\, werden wir dieses Jahr im April ein schönen Tag am Wasser und in der Natur verbringen. Gemeinsam mit der Caritas Wetzlar freuen wir uns Familien\, Kinder und Interessierte in die Natur zu bekommen. Dazu wird es ein kleines und abwechslungsreiches Programm geben. Ob der Osterhase etwas für die Kleinen verstecken wird?
URL:https://kreativangler.de/event/ferienspiele-mit-der-caritas-wetzlar/
LOCATION:Gilsbach
CATEGORIES:Veranstaltung
ATTACH;FMTTYPE=image/jpeg:https://kreativangler.de/wp-content/uploads/2022/07/20220710_142934.jpg
END:VEVENT
BEGIN:VEVENT
DTSTART;TZID=Europe/Berlin:20230204T140000
DTEND;TZID=Europe/Berlin:20230204T160000
DTSTAMP:20260421T151704
CREATED:20221111T110940Z
LAST-MODIFIED:20221209T112013Z
UID:546-1675519200-1675526400@kreativangler.de
SUMMARY:Jahreshauptversammlung
DESCRIPTION:Am 04.02.2022 findet unsere Jahreshauptversammlung statt. Weitere Details zur Tagesordnung und dem Ablauf entnehmen Sie den kommenden Schreiben. Für das leibliche Wohl wird gesorgt sein. Bis dahin\, Petri Heil \n  \nEuer Vorstand
URL:https://kreativangler.de/event/jahreshauptversammlung/
CATEGORIES:Versammlungen
END:VEVENT
BEGIN:VEVENT
DTSTART;TZID=Europe/Berlin:20221030T073000
DTEND;TZID=Europe/Berlin:20221030T160000
DTSTAMP:20260421T151704
CREATED:20220705T140850Z
LAST-MODIFIED:20220705T141430Z
UID:414-1667115000-1667145600@kreativangler.de
SUMMARY:Forellenangeln Teichanlage Bläser
DESCRIPTION:Zum Ende des Jahres werden wir am Hausteich der Teichanlage Bläser sein. Dieses ist ein gemeinsames Angeln mit der Jugend des AV Darmstadt und unserem Verein. Der Hausteich ist für uns den ganzen Tag reserviert. \n  \nTreffen um 7:30 Uhr an der Teichanlage Bläser. \nAdresse: Stelzenbachtal 56412 Oberelbert \nEnde des Angelns 16:00 Uhr. \nDenkt bitte an Kühlboxen für eure Fänge. Wetterfeste Kleidung. \nFür weitere Fragen steht euch der Vorstand gerne zur Verfügung. \n  \nTeichanlage Bläser Homepage : www.teichanlage-blaeser.de/
URL:https://kreativangler.de/event/forellenangeln-teichanlage-blaeser/
LOCATION:Teichanlage-Blaeser\, Stelzenbachtal\, Oberelbert\, 56412\, Deutschland
CATEGORIES:Angeln
ATTACH;FMTTYPE=image/jpeg:https://kreativangler.de/wp-content/uploads/2022/04/IMG_0567.jpg
END:VEVENT
BEGIN:VEVENT
DTSTART;TZID=Europe/Berlin:20220818T100000
DTEND;TZID=Europe/Berlin:20220818T160000
DTSTAMP:20260421T151704
CREATED:20220721T065311Z
LAST-MODIFIED:20220721T065311Z
UID:500-1660816800-1660838400@kreativangler.de
SUMMARY:Ferienprogramm - Caritas Wetzlar
DESCRIPTION:Dieses Jahr bieten wir für die Caritas Wetzlar/Lahn-Dill Eder e.V. das Programm „Entdecken der Natur und Fischerei“ an. Wir freuen uns gemeinsam dieses Programm anbieten zu können.  \n  \nDas Programm am 18.08.2022 für euch in Breitscheid/Langenaubach von Kreativ Angler e.V. \n9:00 Uhr – Abfahrt von der Caritas Gutleutstraße 3\, 35576 Wetzlar \n10:00 – 10:30 Uhr\nWillkommen – Kennenlernen – Gruppenbilden \n10:30 – 13:00 Uhr\nDurchlaufen von zwei der drei verschiedenen Stationen \n13:00 – 14:00 Uhr\nMittagessen\, gemeinsames Grillen und Chillen \n14:00 – 15.00 Uhr\nDurchlaufen der letzten Station \n15:00 – 16:00 Uhr\nFragerunde & Abschluss \nUnsere drei Stationen werdet ihr gruppenweise gemütlich absolvieren und durchlaufen. \nStation 1\nDie Anlage erkunden und durchlaufen. Dazu werdet ihr sehen können\, wie eine solche Anlage mit\nWasser aus einem Bach gespeist wird und warum dieses so wichtig ist für die Fische im Wasser. \nStation 2\nAusrüstung des Anglers\, hier möchten wir euch verschiedene Angelgeräte zeigen. Techniken kurz\nvorstellen\, einen Knoten üben und ein kleines Wurfspiel durchführen. \nStation 3 \nUnsere heimischen Fische\, welche Tiere leben noch am und im Wasser. Dein Weg zum\nFischereischein. \nEs kann auf Grund der Teilnehmerzahl sein\, dass wir unter Umständen die Anzahl der Gruppen\nreduzieren. Geplant sind drei Gruppen. Keine Sorge\, ihr durchlauft trotzdem alle Stationen an diesem\nTag. \nEure Kreativ Angler
URL:https://kreativangler.de/event/ferienprogramm-caritas-wetzlar/
LOCATION:Gastgewässer\, Breitscheid\, 35767\, Deutschland
CATEGORIES:Veranstaltung
ATTACH;FMTTYPE=image/png:https://kreativangler.de/wp-content/uploads/2022/07/Kreativ-Angler-e.V.-3.png
END:VEVENT
BEGIN:VEVENT
DTSTART;TZID=Europe/Berlin:20220813T090000
DTEND;TZID=Europe/Berlin:20220813T130000
DTSTAMP:20260421T151704
CREATED:20220721T064046Z
LAST-MODIFIED:20220721T064046Z
UID:498-1660381200-1660395600@kreativangler.de
SUMMARY:Arbeitseinsatz - Breitscheid
DESCRIPTION:Der erste diesjährige Arbeitseinsatz an der Teichanlage. Treffen um 9 Uhr!
URL:https://kreativangler.de/event/arbeitseinsatz-breitscheid/
END:VEVENT
BEGIN:VEVENT
DTSTART;VALUE=DATE:20220708
DTEND;VALUE=DATE:20220711
DTSTAMP:20260421T151704
CREATED:20220507T072310Z
LAST-MODIFIED:20220507T072453Z
UID:384-1657238400-1657497599@kreativangler.de
SUMMARY:Hegefischen für Menschen mit Behinderung
DESCRIPTION:Der Deutsche Anglfischereiverband DAFV lädt vom 08.07.-10.07.2022 zum Hegefischen in Breitungen/Werra ein. Wir nehmen daran teil. \nDas Programm überzeugt\, es sind auch Angler ohne Handicap willkommen. \nBei Fragen zum Ablauf oder Klärung der Unterkunft \, bitte mit dem Vorstand in Verbindung setzten. \nWir fahren gemeinsam aus Wetzlar nach Breitungen/Werra ab.
URL:https://kreativangler.de/event/hegefischen-fuer-menschen-mit-behinderung/
LOCATION:Breitungen/Werra\, Breitungen\, Thüringen\, 98597\, Deutschland
CATEGORIES:Angeln
ATTACH;FMTTYPE=image/jpeg:https://kreativangler.de/wp-content/uploads/2022/04/IMG_9937.jpg
END:VEVENT
BEGIN:VEVENT
DTSTART;VALUE=DATE:20220526
DTEND;VALUE=DATE:20220530
DTSTAMP:20260421T151704
CREATED:20220507T071338Z
LAST-MODIFIED:20220507T072350Z
UID:375-1653523200-1653868799@kreativangler.de
SUMMARY:VHF-Jugendcamp 2022 in Heuchelheim
DESCRIPTION:VHF-Jugendcamp 2022 in Heuchelheim \nDer Verband Hessischer Fischer veranstaltet vom 26.05.-29.05.2022 ein Jugendcamp mit einem tollen Programm für Kinder. Ausbildung und Spaß stehen im Vordergrund\, Preise gibt es beim Wurf Casting ebenfalls zu gewinnen\, wir sind dabei! \nDie VHF-Jugend – Termine
URL:https://kreativangler.de/event/vhf-jugendcamp-2022-in-heuchelheim/
LOCATION:Heuchelheimer See VSA Gießen\, Heuchelheim\, Hessen\, 35452\, Deutschland
CATEGORIES:Angeln
ATTACH;FMTTYPE=image/jpeg:https://kreativangler.de/wp-content/uploads/2022/04/IMG_0567.jpg
END:VEVENT
BEGIN:VEVENT
DTSTART;TZID=Europe/Berlin:20220410T100000
DTEND;TZID=Europe/Berlin:20220410T160000
DTSTAMP:20260421T151706
CREATED:20220224T120829Z
LAST-MODIFIED:20220224T120929Z
UID:309-1649584800-1649606400@kreativangler.de
SUMMARY:Erstes Vereins Anangeln
DESCRIPTION:Das aller erste Anangeln des Vereins findet an unserem Gastgewässer in Breitscheid statt. Wir laden herzlich alle Mitglieder an dieser Veranstaltung teil zu nehmen. Auf euer kommen freuen wir uns. \n  \nDer Vorstand.
URL:https://kreativangler.de/event/erstes-vereins-anangeln/
LOCATION:Gastgewässer\, Breitscheid\, 35767\, Deutschland
ATTACH;FMTTYPE=image/jpeg:https://kreativangler.de/wp-content/uploads/2022/01/IMG_8832.jpg
END:VEVENT
BEGIN:VEVENT
DTSTART;TZID=Europe/Berlin:20220409T150000
DTEND;TZID=Europe/Berlin:20220409T170000
DTSTAMP:20260421T151706
CREATED:20220224T120412Z
LAST-MODIFIED:20220224T121434Z
UID:304-1649516400-1649523600@kreativangler.de
SUMMARY:Mitgliederversammlung #1 2022
DESCRIPTION:Mitgliederversammlung gemäß Tagesordnung.
URL:https://kreativangler.de/event/mitgliederversammlung-1-2022/
LOCATION:35630 Ehringshausen\, Ehringshausen\, 35630\, Deutschland
ATTACH;FMTTYPE=image/png:https://kreativangler.de/wp-content/uploads/2022/01/cropped-Logo-3.png
END:VEVENT
BEGIN:VEVENT
DTSTART;TZID=Europe/Berlin:20220326T100000
DTEND;TZID=Europe/Berlin:20220326T150000
DTSTAMP:20260421T151706
CREATED:20220224T115648Z
LAST-MODIFIED:20220224T115800Z
UID:299-1648288800-1648306800@kreativangler.de
SUMMARY:Sauberes Drumherum
DESCRIPTION:Arbeitseinsatz an unserem Gastgewässer in Breitscheid ! Für Mitglieder. \n 
URL:https://kreativangler.de/event/sauberes-drumherum/
LOCATION:Gastgewässer\, Breitscheid\, 35767\, Deutschland
ATTACH;FMTTYPE=image/jpeg:https://kreativangler.de/wp-content/uploads/2022/01/IMG_8809.jpg
END:VEVENT
END:VCALENDAR